BEGIN:VCALENDAR
VERSION:2.0
PRODID:-//Squarespace Inc/Squarespace 6//v6//EN
BEGIN:VEVENT
UID:59a53c0ed7bdce74e75d88cd@squarespace.com
DTSTAMP:20170829T100511Z
DTSTART:20170828T234500Z
DTEND:20170829T004500Z
SUMMARY:BodyAttack
END:VEVENT
END:VCALENDAR
